BEGIN:VCALENDAR
VERSION:2.0
PRODID:-//PeTaCa - ECPv6.9.0//NONSGML v1.0//EN
CALSCALE:GREGORIAN
METHOD:PUBLISH
X-WR-CALNAME:PeTaCa
X-ORIGINAL-URL:https://petaca.cat
X-WR-CALDESC:Esdeveniments per PeTaCa
REFRESH-INTERVAL;VALUE=DURATION:PT1H
X-Robots-Tag:noindex
X-PUBLISHED-TTL:PT1H
BEGIN:VTIMEZONE
TZID:Europe/Madrid
BEGIN:DAYLIGHT
TZOFFSETFROM:+0100
TZOFFSETTO:+0200
TZNAME:CEST
DTSTART:20260329T010000
END:DAYLIGHT
BEGIN:STANDARD
TZOFFSETFROM:+0200
TZOFFSETTO:+0100
TZNAME:CET
DTSTART:20261025T010000
END:STANDARD
END:VTIMEZONE
BEGIN:VEVENT
DTSTART;TZID=Europe/Madrid:20260516T180000
DTEND;TZID=Europe/Madrid:20260516T190000
DTSTAMP:20260420T051623
CREATED:20260127T184330Z
LAST-MODIFIED:20260313T074516Z
UID:2282-1778954400-1778958000@petaca.cat
SUMMARY:UN CANT ALS ESTELS: El viatge pels amors perduts (Sallent 2026)
DESCRIPTION:  \nUN CANT ALS ESTELS\nEl viatge pels amors perduts \nUn Cant als Estels és una cantata emocionant i participativa que convida el públic a un viatge musical a través de les diferents formes d’amor que ens acompanyen al llarg de la vida. L’espectacle ens convida a seguir el viatge de La Vida\, que recorre l’univers per recuperar la paraula “estimar”\, destruïda i escampada entre els estels. A través d’11 cançons\, es descobreixen diferents formes d’amor presents al llarg de la vida: l’amistat\, la família\, la passió\, la pèrdua o l’amor propi\, entre d’altres. \nAmb una posada en escena vibrant\, la cantata combina música en directe\, interpretada per una banda professional\, amb una escenografia evocadora i la força del cor d’infants. Un Cant als Estels esdevé així una experiència artística i emocional única\, capaç de commoure i fer reflexionar el públic de totes les edats. \nEntrades properament \n 
URL:https://petaca.cat/event/ucae-sallent-2026/
LOCATION:Espai Cultural Fábrica Vella de Sallent\, Carrer Camp de la Bota\, 5\,\, Sallent\, Barcelona\, 08650
CATEGORIES:Actuació,Concert
ORGANIZER;CN="Petit Taller de Can%C3%A7ons":MAILTO:petacamusics@gmail.com
END:VEVENT
BEGIN:VEVENT
DTSTART;TZID=Europe/Madrid:20260517T120000
DTEND;TZID=Europe/Madrid:20260517T130000
DTSTAMP:20260420T051623
CREATED:20260127T184149Z
LAST-MODIFIED:20260313T074450Z
UID:2279-1779019200-1779022800@petaca.cat
SUMMARY:UN CANT ALS ESTELS: El viatge pels amors perduts (Valls 2026)
DESCRIPTION:UN CANT ALS ESTELS\nEl viatge pels amors perduts \nUn Cant als Estels és una cantata emocionant i participativa que convida el públic a un viatge musical a través de les diferents formes d’amor que ens acompanyen al llarg de la vida. L’espectacle ens convida a seguir el viatge de La Vida\, que recorre l’univers per recuperar la paraula “estimar”\, destruïda i escampada entre els estels. A través d’11 cançons\, es descobreixen diferents formes d’amor presents al llarg de la vida: l’amistat\, la família\, la passió\, la pèrdua o l’amor propi\, entre d’altres. \nAmb una posada en escena vibrant\, la cantata combina música en directe\, interpretada per una banda professional\, amb una escenografia evocadora i la força del cor d’infants. Un Cant als Estels esdevé així una experiència artística i emocional única\, capaç de commoure i fer reflexionar el públic de totes les edats. \nEntrades properament \n 
URL:https://petaca.cat/event/ucae-valls-2026/
LOCATION:Centre Cultural Municipal de Valls\, Plaça Francesc Layret\, Valls\, Tarragona\, 43800
CATEGORIES:Actuació,Concert
ORGANIZER;CN="Petit Taller de Can%C3%A7ons":MAILTO:petacamusics@gmail.com
END:VEVENT
BEGIN:VEVENT
DTSTART;TZID=Europe/Madrid:20260530T180000
DTEND;TZID=Europe/Madrid:20260530T190000
DTSTAMP:20260420T051623
CREATED:20260127T183937Z
LAST-MODIFIED:20260413T071124Z
UID:2275-1780164000-1780167600@petaca.cat
SUMMARY:UN CANT ALS ESTELS: El viatge pels amors perduts (Lleida 2026)
DESCRIPTION:Un Cant als Estels és una cantata emocionant i participativa que convida el públic a un viatge musical a través de les diferents formes d’amor que ens acompanyen al llarg de la vida. L’espectacle ens convida a seguir el viatge de La Vida\, que recorre l’univers per recuperar la paraula “estimar”\, destruïda i escampada entre els estels. A través d’11 cançons\, es descobreixen diferents formes d’amor presents al llarg de la vida: l’amistat\, la família\, la passió\, la pèrdua o l’amor propi\, entre d’altres. \nAmb una posada en escena vibrant\, la cantata combina música en directe\, interpretada per una banda professional\, amb una escenografia evocadora i la força del cor d’infants. Un Cant als Estels esdevé així una experiència artístic \nEntrades \n  \n 
URL:https://petaca.cat/event/ucae-lleida-2026/
LOCATION:Teatre La Llotja de Lleida\, Avinguda de Tortosa\, 6\,\, Lleida\, 25005\, Spain
CATEGORIES:Actuació,Concert
ORGANIZER;CN="Petit Taller de Can%C3%A7ons":MAILTO:petacamusics@gmail.com
END:VEVENT
BEGIN:VEVENT
DTSTART;VALUE=DATE:20260531
DTEND;VALUE=DATE:20260601
DTSTAMP:20260420T051623
CREATED:20260127T183751Z
LAST-MODIFIED:20260313T074344Z
UID:2272-1780185600-1780271999@petaca.cat
SUMMARY:UN CANT ALS ESTELS: El viatge pels amors perduts (Alcanar 2026)
DESCRIPTION:SEIENTS NO NUMERATS
URL:https://petaca.cat/event/ucae-alcanar-2026/
LOCATION:Teatre Auditori Alcanar\, Avinguda de Calalunya 78\, Alcanar\, Tarragona\, España
CATEGORIES:Actuació,Concert
ORGANIZER;CN="Petit Taller de Can%C3%A7ons":MAILTO:petacamusics@gmail.com
END:VEVENT
BEGIN:VEVENT
DTSTART;VALUE=DATE:20260606
DTEND;VALUE=DATE:20260608
DTSTAMP:20260420T051623
CREATED:20260127T182740Z
LAST-MODIFIED:20260313T074309Z
UID:2264-1780704000-1780876799@petaca.cat
SUMMARY:UN CANT ALS ESTELS: El viatge pels amors perduts (Salou 2026)
DESCRIPTION:SEIENTS NO NUMERATS
URL:https://petaca.cat/event/ucae-salou-2026/
LOCATION:Teatre Auditori de Salou\, Carrer de l'Advocat Gallego\, 2\,\, Salou\, 43840\, Spain
CATEGORIES:Actuació,Concert
ORGANIZER;CN="Petit Taller de Can%C3%A7ons":MAILTO:petacamusics@gmail.com
END:VEVENT
END:VCALENDAR